BEGIN:VCALENDAR
VERSION:2.0
PRODID:-// - ECPv6.10.2//NONSGML v1.0//EN
CALSCALE:GREGORIAN
METHOD:PUBLISH
X-ORIGINAL-URL:https://redcreekwildlifecenter.com
X-WR-CALDESC:Events for 
REFRESH-INTERVAL;VALUE=DURATION:PT1H
X-Robots-Tag:noindex
X-PUBLISHED-TTL:PT1H
BEGIN:VTIMEZONE
TZID:America/New_York
BEGIN:DAYLIGHT
TZOFFSETFROM:-0500
TZOFFSETTO:-0400
TZNAME:EDT
DTSTART:20260308T070000
END:DAYLIGHT
BEGIN:STANDARD
TZOFFSETFROM:-0400
TZOFFSETTO:-0500
TZNAME:EST
DTSTART:20261101T060000
END:STANDARD
END:VTIMEZONE
BEGIN:VEVENT
DTSTART;VALUE=DATE:20260115
DTEND;VALUE=DATE:20260116
DTSTAMP:20260421T144908
CREATED:20260101T180828Z
LAST-MODIFIED:20260101T180903Z
UID:6112-1768435200-1768521599@redcreekwildlifecenter.com
SUMMARY:Spring Internship Applications Closed
DESCRIPTION:Applications for spring internships will close by 9am on January 15th. Staff will begin reviewing applications at this time.
URL:https://redcreekwildlifecenter.com/event/spring-internship-applications-closed/
END:VEVENT
BEGIN:VEVENT
DTSTART;TZID=America/New_York:20260207T140000
DTEND;TZID=America/New_York:20260207T170000
DTSTAMP:20260421T144908
CREATED:20251121T152509Z
LAST-MODIFIED:20260104T225937Z
UID:4145-1770472800-1770483600@redcreekwildlifecenter.com
SUMMARY:Painting With Peggy
DESCRIPTION:Discover your creative side while supporting Red Creek Wildlife Center. \n“Painting with Peggy” grew out of a simple idea. Peggy has always loved to paint\, and like everything at Red Creek\, she also loves to teach. After watching countless Bob Ross programs over the years\, she wondered if she could guide a group through a painting in just a few hours. A private trial class with our staff and volunteers was a huge success\, and everyone asked for more. \n    \nTo make this fundraiser meaningful and true to our mission\, each session features a simple animal portrait instead of a landscape. Our first public classes will focus on Gabby\, our beloved 33-year-old ambassador owl. \nParticipants will paint Gabby while learning about owls\, their behavior\, and their role in the wild. Gabby will visit during the class\, creating a memorable experience you will not forget. \nThis is not just a painting class. It is an afternoon of learning\, laughter\, creativity\, and supporting wildlife rehabilitation. \n       \nAll proceeds support the wildlife rehabilitation work of Red Creek Wildlife Center\nDates:• Saturday\, February 7th\, 2:00 to 5:00 pm• Sunday\, February 8th\, 2:00 to 5:00 pm(Each date is a separate class.) \nLocation: Red Creek Wildlife CenterClass Size: Limited to 12 participants per session to ensure personal attentionIncludes: All painting supplies\, cookies\, and a warm winter drink \nCLICK HERE to Enroll Today – $55.00 
URL:https://redcreekwildlifecenter.com/event/painting-with-peggy/
LOCATION:Red Creek Wildlife Center\, 300 Moonhill Drive\, Schuylkill Haven\, PA\, 17972\, United States
CATEGORIES:Fundraising Event,Public Wildlife Program
END:VEVENT
BEGIN:VEVENT
DTSTART;TZID=America/New_York:20260208T140000
DTEND;TZID=America/New_York:20260208T170000
DTSTAMP:20260421T144908
CREATED:20251121T161809Z
LAST-MODIFIED:20251121T183754Z
UID:4163-1770559200-1770570000@redcreekwildlifecenter.com
SUMMARY:Painting With Peggy
DESCRIPTION:Discover your creative side while supporting Red Creek Wildlife Center. \n“Painting with Peggy” grew out of a simple idea. Peggy has always loved to paint\, and like everything at Red Creek\, she also loves to teach. After watching countless Bob Ross programs over the years\, she wondered if she could guide a group through a painting in just a few hours. A private trial class with our staff and volunteers was a huge success\, and everyone asked for more. \n    \nTo make this fundraiser meaningful and true to our mission\, each session features a simple animal portrait instead of a landscape. Our first public classes will focus on Gabby\, our beloved 33-year-old ambassador owl. \nParticipants will paint Gabby while learning about owls\, their behavior\, and their role in the wild. Gabby will be present during the class\, creating a memorable experience you will not forget. \nThis is not just a painting class. It is an afternoon of learning\, laughter\, creativity\, and supporting wildlife rehabilitation. \n       \nAll proceeds support the wildlife rehabilitation work of Red Creek Wildlife Center\nDates:• Saturday\, February 7th\, 2:00 to 5:00 pm• Sunday\, February 8th\, 2:00 to 5:00 pm(Each date is a separate class.) \nLocation: Red Creek Wildlife CenterClass Size: Limited to 10 participants per session to ensure personal attentionIncludes: All painting supplies\, cookies\, and a warm winter drink \nCLICK HERE to Enroll Today – $55.00 
URL:https://redcreekwildlifecenter.com/event/painting-with-peggy-2/
LOCATION:Red Creek Wildlife Center\, 300 Moonhill Drive\, Schuylkill Haven\, PA\, 17972\, United States
CATEGORIES:Fundraising Event,Public Wildlife Program
END:VEVENT
BEGIN:VEVENT
DTSTART;TZID=America/New_York:20260307T120000
DTEND;TZID=America/New_York:20260307T150000
DTSTAMP:20260421T144908
CREATED:20251108T191623Z
LAST-MODIFIED:20260209T175433Z
UID:4119-1772884800-1772895600@redcreekwildlifecenter.com
SUMMARY:Red Creek's 2nd Annual Wild About Babies Shower
DESCRIPTION:      Save the Date for Red Creek’s 2nd Annual Wild About Babies Shower! \nMarch 7\, 2026 – 12pm-3pm – Red Creek Wildlife Education Center \n \nOur Wild About Babies Shower is all about coming together as a community of conservationists\, wildlife enthusiasts\, and animal lovers to prepare for the busy but rewarding summer rehabilitation season. You will have the opportunity to learn about how we care for a variety of native wild babies each summer\, the causes of our increased case load of adult wildlife\, and how you can help us help wildlife. We will have games with a variety of prizes\, educational materials\, live animals\, and a raffle! \n\nRaffle Information:\n\n\n\nDonate an item from one of our registries or Amazon Wishlist for 2 entries to our Gift Card Tree Raffle! Make sure to bring your receipt or confirmation email as proof of purchase to secure your raffle tickets. \nAdditional entries can be purchased at $5.00 per ticket or 5 tickets for $20.00!\n\n\n\n\n\nWalmart Registry \nTarget Registry \nAmazon Wishlist \n 
URL:https://redcreekwildlifecenter.com/event/red-creeks-2nd-annual-wild-baby-shower/
LOCATION:Red Creek Wildlife Center\, 300 Moonhill Drive\, Schuylkill Haven\, PA\, 17972\, United States
CATEGORIES:Fundraising Event,Public Wildlife Program
END:VEVENT
BEGIN:VEVENT
DTSTART;VALUE=DATE:20260314
DTEND;VALUE=DATE:20260316
DTSTAMP:20260421T144908
CREATED:20260302T202858Z
LAST-MODIFIED:20260302T202907Z
UID:6209-1773446400-1773619199@redcreekwildlifecenter.com
SUMMARY:Education Center Reopens!
DESCRIPTION:The Education Center will reopen for normal operating hours (Saturdays and Sundays from 11am-3pm) starting March 14th! Join us at the Education Center for educational displays\, indoor ambassador animals\, and a nature walking trail with even more ambassador animals! We will also have our wildlife store open with Red Creek Merch and educational activities available for purchase so you can support our mission.
URL:https://redcreekwildlifecenter.com/event/education-center-reopens/
LOCATION:Red Creek Wildlife Center\, 300 Moonhill Drive\, Schuylkill Haven\, PA\, 17972\, United States
END:VEVENT
BEGIN:VEVENT
DTSTART;TZID=America/New_York:20260321T110000
DTEND;TZID=America/New_York:20260321T150000
DTSTAMP:20260421T144908
CREATED:20260302T203814Z
LAST-MODIFIED:20260302T204109Z
UID:6211-1774090800-1774105200@redcreekwildlifecenter.com
SUMMARY:Education Center Open
DESCRIPTION:The Education Center is open Saturday and Sunday from 11am-3pm! Join us for educational displays\, indoor ambassador animals\, and a nature walking trail with even more ambassador animals! We will also have our wildlife store open with Red Creek Merch and educational activities available for purchase so YOU can be a part of supporting our mission.
URL:https://redcreekwildlifecenter.com/event/education-center-open/
LOCATION:Red Creek Wildlife Center\, 300 Moonhill Drive\, Schuylkill Haven\, PA\, 17972\, United States
END:VEVENT
BEGIN:VEVENT
DTSTART;TZID=America/New_York:20260322T110000
DTEND;TZID=America/New_York:20260322T150000
DTSTAMP:20260421T144908
CREATED:20260302T204143Z
LAST-MODIFIED:20260302T204143Z
UID:6213-1774177200-1774191600@redcreekwildlifecenter.com
SUMMARY:Education Center Open
DESCRIPTION:The Education Center is open Saturday and Sunday from 11am-3pm! Join us for educational displays\, indoor ambassador animals\, and a nature walking trail with even more ambassador animals! We will also have our wildlife store open with Red Creek Merch and educational activities available for purchase so YOU can be a part of supporting our mission.
URL:https://redcreekwildlifecenter.com/event/education-center-open-2/
LOCATION:Red Creek Wildlife Center\, 300 Moonhill Drive\, Schuylkill Haven\, PA\, 17972\, United States
END:VEVENT
BEGIN:VEVENT
DTSTART;TZID=America/New_York:20260328T110000
DTEND;TZID=America/New_York:20260328T150000
DTSTAMP:20260421T144908
CREATED:20260302T204409Z
LAST-MODIFIED:20260302T204409Z
UID:6215-1774695600-1774710000@redcreekwildlifecenter.com
SUMMARY:Education Center Open
DESCRIPTION:The Education Center is open Saturday and Sunday from 11am-3pm! Join us for educational displays\, indoor ambassador animals\, and a nature walking trail with even more ambassador animals! We will also have our wildlife store open with Red Creek Merch and educational activities available for purchase so YOU can be a part of supporting our mission.
URL:https://redcreekwildlifecenter.com/event/education-center-open-3/
LOCATION:Red Creek Wildlife Center\, 300 Moonhill Drive\, Schuylkill Haven\, PA\, 17972\, United States
END:VEVENT
BEGIN:VEVENT
DTSTART;TZID=America/New_York:20260329T110000
DTEND;TZID=America/New_York:20260329T150000
DTSTAMP:20260421T144908
CREATED:20260302T204444Z
LAST-MODIFIED:20260302T204444Z
UID:6217-1774782000-1774796400@redcreekwildlifecenter.com
SUMMARY:Education Center Open
DESCRIPTION:The Education Center is open Saturday and Sunday from 11am-3pm! Join us for educational displays\, indoor ambassador animals\, and a nature walking trail with even more ambassador animals! We will also have our wildlife store open with Red Creek Merch and educational activities available for purchase so YOU can be a part of supporting our mission.
URL:https://redcreekwildlifecenter.com/event/education-center-open-4/
LOCATION:Red Creek Wildlife Center\, 300 Moonhill Drive\, Schuylkill Haven\, PA\, 17972\, United States
END:VEVENT
BEGIN:VEVENT
DTSTART;VALUE=DATE:20260330
DTEND;VALUE=DATE:20260331
DTSTAMP:20260421T144908
CREATED:20260109T164757Z
LAST-MODIFIED:20260330T164011Z
UID:6159-1774828800-1774915199@redcreekwildlifecenter.com
SUMMARY:2026 Summer Internship Application Closes
DESCRIPTION:2026 Summer Internship (Level 1 and 2) applications will close on March 30\, 2026. Staff will begin reviewing applications at this time.
URL:https://redcreekwildlifecenter.com/event/2026-summer-internship-application-closes/
END:VEVENT
BEGIN:VEVENT
DTSTART;TZID=America/New_York:20260517T160000
DTEND;TZID=America/New_York:20260517T200000
DTSTAMP:20260421T144908
CREATED:20260416T185518Z
LAST-MODIFIED:20260417T192318Z
UID:6269-1779033600-1779048000@redcreekwildlifecenter.com
SUMMARY:Red Robin Fundraiser Night
DESCRIPTION:Head out to Red Robin in Reading on May 17th between 4-8pm to enjoy some delicious food and support Red Creek! More information on the flyer!
URL:https://redcreekwildlifecenter.com/event/red-robin-fundraiser-night/
END:VEVENT
BEGIN:VEVENT
DTSTART;TZID=America/New_York:20260718T153000
DTEND;TZID=America/New_York:20260718T200000
DTSTAMP:20260421T144908
CREATED:20251129T182132Z
LAST-MODIFIED:20251211T175108Z
UID:4274-1784388600-1784404800@redcreekwildlifecenter.com
SUMMARY:Red Creek Renaissance Faire
DESCRIPTION:We here at Red Creek Wildlife Center are excited to announce that we will be hosting a renaissance faire on-site on July 18\, 2026. \nYou can expect to meet some of our resident ambassador animals\, enjoy snacks and drinks\, and shop at a craft market featuring several wonderful creators and artists. \nOur Education Center\, Red Creek Store\, and Walking Trail will also be open. \nCostumes welcome\, but not required!  \nMore vendor info coming soon!
URL:https://redcreekwildlifecenter.com/event/red-creek-renaissance-faire/
LOCATION:Red Creek Wildlife Center\, 300 Moonhill Drive\, Schuylkill Haven\, PA\, 17972\, United States
END:VEVENT
BEGIN:VEVENT
DTSTART;TZID=America/New_York:20260919T110000
DTEND;TZID=America/New_York:20260919T160000
DTSTAMP:20260421T144908
CREATED:20251106T151014Z
LAST-MODIFIED:20251106T151014Z
UID:4115-1789815600-1789833600@redcreekwildlifecenter.com
SUMMARY:2026 Open House
DESCRIPTION:Save the DATE!\nSeptember 19th\, 2026\n 
URL:https://redcreekwildlifecenter.com/event/2026-open-house/
LOCATION:Red Creek Wildlife Center\, 300 Moonhill Drive\, Schuylkill Haven\, PA\, 17972\, United States
END:VEVENT
END:VCALENDAR