BEGIN:VCALENDAR
VERSION:2.0
PRODID:-// - ECPv6.10.2//NONSGML v1.0//EN
CALSCALE:GREGORIAN
METHOD:PUBLISH
X-ORIGINAL-URL:https://redcreekwildlifecenter.com
X-WR-CALDESC:Events for 
REFRESH-INTERVAL;VALUE=DURATION:PT1H
X-Robots-Tag:noindex
X-PUBLISHED-TTL:PT1H
BEGIN:VTIMEZONE
TZID:America/New_York
BEGIN:DAYLIGHT
TZOFFSETFROM:-0500
TZOFFSETTO:-0400
TZNAME:EDT
DTSTART:20250309T070000
END:DAYLIGHT
BEGIN:STANDARD
TZOFFSETFROM:-0400
TZOFFSETTO:-0500
TZNAME:EST
DTSTART:20251102T060000
END:STANDARD
END:VTIMEZONE
BEGIN:VEVENT
DTSTART;TZID=America/New_York:20251121T170000
DTEND;TZID=America/New_York:20251121T210000
DTSTAMP:20260421T102709
CREATED:20251106T150635Z
LAST-MODIFIED:20251121T155243Z
UID:4111-1763744400-1763758800@redcreekwildlifecenter.com
SUMMARY:EXTRA WILD Extra Give
DESCRIPTION:Where:\nAcorn Acres Wildlife Rehabilitation\,\n2100 Stone Mill Road\, Lancaster \nWhen:\nFriday\, November 21\, 2025  —  From 5 pm to 9 pm \nJoin us for a truly wild evening as we join Acorn Acres Wildlife Rehabilitation as we celebrate ExtraGive! This unique event brings together two of Pennsylvania’s trusted wildlife organizations for an unforgettable night of learning\, discovery\, and community support. \nWhat to Expect:\nOwl Pellet Dissection – Dive into the science of what owls eat and uncover fascinating discoveries hidden inside their pellets. A hands-on activity that’s fun for kids and adults alike! \nSnacks & Sips – Enjoy light refreshments and beverages while mingling with fellow wildlife enthusiasts. \nAmbassador Animals – Meet the incredible wildlife ambassadors from both Acorn Acres and Red Creek Wildlife Center. From opossums to raptors\, you’ll get a rare chance to see these animals up close and hear their stories. \nThis evening is part of the Extra Wild ExtraGive celebration—an opportunity to connect with wildlife\, support two amazing organizations\, and be part of the movement that helps animals thrive across Pennsylvania. \nCome for the animals\, stay for the fun\, and leave knowing you’ve made a difference!
URL:https://redcreekwildlifecenter.com/event/extra-wild-extra-give/
LOCATION:Acorn Acres Wildlie Rehab\, 2100 Stone Mill Road\, Lancaster\, PA\, United States
CATEGORIES:Fundraising Event,Public Wildlife Program
END:VEVENT
END:VCALENDAR